BEGIN:VCALENDAR
PRODID:-//eluceo/ical//2.0/EN
VERSION:2.0
CALSCALE:GREGORIAN
BEGIN:VEVENT
UID:0372c9c3b7fe61b12a7908b71914c6a4
DTSTAMP:20260424T044248Z
SUMMARY:Beth Tikvah Synagogue Program
DESCRIPTION:Jewish Federation of Central Massachusetts\nCalendar\nhttps://j
 ewishcentralmass.org/calendar/beth-tikvah-synagogue-program\n\nBT Prog
DTSTART;TZID=America/New_York:20130105T190000
DTEND;TZID=America/New_York:20130105T193000
END:VEVENT
END:VCALENDAR
