BEGIN:VCALENDAR
PRODID:-//eluceo/ical//2.0/EN
VERSION:2.0
CALSCALE:GREGORIAN
BEGIN:VEVENT
UID:d49c6deacf532aaab860e6fb043c26d1
DTSTAMP:20260425T001328Z
SUMMARY:Beth Tikvah Synagogue Lunch Program
DESCRIPTION:Jewish Federation of Central Massachusetts\nCalendar\nhttps://j
 ewishcentralmass.org/calendar/beth-tikvah-synagogue-lunch-program\n\nBT Lu
 nch Prog
DTSTART;TZID=America/New_York:20130126T120000
DTEND;TZID=America/New_York:20130126T123000
END:VEVENT
END:VCALENDAR
