BEGIN:VCALENDAR
PRODID:-//eluceo/ical//2.0/EN
VERSION:2.0
CALSCALE:GREGORIAN
BEGIN:VEVENT
UID:84f09d598504d96de014c8fde92e43a7
DTSTAMP:20260421T203955Z
SUMMARY:Beth Tikvah Synagogue Fundraiser
DESCRIPTION:Jewish Federation of Central Massachusetts\nCalendar\nhttps://j
 ewishcentralmass.org/calendar/beth-tikvah-synagogue-fundraiser\n\nBT Fundr
 aiser
DTSTART;TZID=America/New_York:20130427T190000
DTEND;TZID=America/New_York:20130427T193000
END:VEVENT
END:VCALENDAR
