BEGIN:VCALENDAR
PRODID:-//eluceo/ical//2.0/EN
VERSION:2.0
CALSCALE:GREGORIAN
BEGIN:VEVENT
UID:32185d5f9761c6b948eb5484816bd7c5
DTSTAMP:20260422T162633Z
SUMMARY:Beth Tikvah Synagogue Annual Meeting & Dinner
DESCRIPTION:Jewish Federation of Central Massachusetts\nCalendar\nhttps://j
 ewishcentralmass.org/calendar/beth-tikvah-synagogue-annual-meeting--dinner
 \n\nBT Annual Mtg & Dinner
DTSTART;TZID=America/New_York:20130623T180000
DTEND;TZID=America/New_York:20130623T183000
END:VEVENT
END:VCALENDAR
