BEGIN:VCALENDAR
PRODID:-//eluceo/ical//2.0/EN
VERSION:2.0
CALSCALE:GREGORIAN
BEGIN:VEVENT
UID:4a438a8081df9bce1257c50bc0d84bbb
DTSTAMP:20260423T134932Z
SUMMARY:Beth Tikvah Purim Festival
DESCRIPTION:Jewish Federation of Central Massachusetts\nCalendar\nhttps://j
 ewishcentralmass.org/calendar/beth-tikvah-purim-festival\n\nBT Purim Festi
 val
DTSTART;TZID=America/New_York:20140316T160000
DTEND;TZID=America/New_York:20140316T163000
END:VEVENT
END:VCALENDAR
