BEGIN:VCALENDAR
PRODID:-//eluceo/ical//2.0/EN
VERSION:2.0
CALSCALE:GREGORIAN
BEGIN:VEVENT
UID:98fa160844045ff1d6dd28e4f2afd938
DTSTAMP:20260422T073706Z
SUMMARY:Beth Tikvah "Paper Clips" showing
DESCRIPTION:Jewish Federation of Central Massachusetts\nCalendar\nhttps://j
 ewishcentralmass.org/calendar/beth-tikvah-paper-clips\n\nBeth Tikvah will 
 be screening the movie "Paper Clips"
DTSTART;TZID=America/New_York:20160521T190000
DTEND;TZID=America/New_York:20160521T210000
END:VEVENT
END:VCALENDAR
