BEGIN:VCALENDAR
PRODID:-//eluceo/ical//2.0/EN
VERSION:2.0
CALSCALE:GREGORIAN
BEGIN:VEVENT
UID:03f89990c85ccbd1e37e2421d8ef803f
DTSTAMP:20260422T052926Z
SUMMARY:Beth Tikvah Open House
DESCRIPTION:Jewish Federation of Central Massachusetts\nCalendar\nhttps://j
 ewishcentralmass.org/calendar/beth-tikvah-open-house\n\nBT Open House
DTSTART;TZID=America/New_York:20130825T100000
DTEND;TZID=America/New_York:20130825T103000
END:VEVENT
END:VCALENDAR
