BEGIN:VCALENDAR
PRODID:-//eluceo/ical//2.0/EN
VERSION:2.0
CALSCALE:GREGORIAN
BEGIN:VEVENT
UID:01b3722ce202825c12e753954257652c
DTSTAMP:20260420T234812Z
SUMMARY:Chanukat Habayit at Beth Tikvah
DESCRIPTION:Jewish Federation of Central Massachusetts\nCalendar\nhttps://j
 ewishcentralmass.org/calendar/beth-tikvah-event\n\nChanukat Habayit at Bet
 h Tikvah on February 9th\n\nThis event will be the grand reopening of our 
 facility at 30 Oak St.  
DTSTART;TZID=America/New_York:20190209T150000
DTEND;TZID=America/New_York:20190209T210000
END:VEVENT
END:VCALENDAR
