BEGIN:VCALENDAR
PRODID:-//eluceo/ical//2.0/EN
VERSION:2.0
CALSCALE:GREGORIAN
BEGIN:VEVENT
UID:b4d43e461c84aca3d223167ef4f34d94
DTSTAMP:20260423T233641Z
SUMMARY:Beth Tikvah Coffeehouse Talent Night
DESCRIPTION:Jewish Federation of Central Massachusetts\nCalendar\nhttps://j
 ewishcentralmass.org/calendar/beth-tikvah-coffeehouse-talent-night\n\nBT C
 offeehouse Talent Night
DTSTART;TZID=America/New_York:20140104T190000
DTEND;TZID=America/New_York:20140104T193000
END:VEVENT
END:VCALENDAR
