BEGIN:VCALENDAR
PRODID:-//eluceo/ical//2.0/EN
VERSION:2.0
CALSCALE:GREGORIAN
BEGIN:VEVENT
UID:24777a34e71288c99d273c6b06fee714
DTSTAMP:20260422T120005Z
SUMMARY:Beth Tikvah Breakfast for Sukkot
DESCRIPTION:Jewish Federation of Central Massachusetts\nCalendar\nhttps://j
 ewishcentralmass.org/calendar/beth-tikvah-breakfast-for-sukkot\n\nBT Brkfs
 t
DTSTART;TZID=America/New_York:20130922T100000
DTEND;TZID=America/New_York:20130922T103000
END:VEVENT
END:VCALENDAR
