BEGIN:VCALENDAR
PRODID:-//eluceo/ical//2.0/EN
VERSION:2.0
CALSCALE:GREGORIAN
BEGIN:VEVENT
UID:4ba0a3bc4391711224ac1097310482d8
DTSTAMP:20260422T001208Z
SUMMARY:Beth Tikvah Boutique Night
DESCRIPTION:Jewish Federation of Central Massachusetts\nCalendar\nhttps://j
 ewishcentralmass.org/calendar/beth-tikvah-boutique-night\n\nBT Boutique Ni
 ght
DTSTART;TZID=America/New_York:20131103T200000
DTEND;TZID=America/New_York:20131103T203000
END:VEVENT
END:VCALENDAR
