BEGIN:VCALENDAR
PRODID:-//eluceo/ical//2.0/EN
VERSION:2.0
CALSCALE:GREGORIAN
BEGIN:VEVENT
UID:a3430d39c81cbdf1915ac8189dc9f7e0
DTSTAMP:20260423T042638Z
SUMMARY:Beth Tikvah Bingo Family Fun Night
DESCRIPTION:Jewish Federation of Central Massachusetts\nCalendar\nhttps://j
 ewishcentralmass.org/calendar/beth-tikvah-bingo-family-fun-night\n\nBT Bin
 go Family Fun Night
DTSTART;TZID=America/New_York:20131123T200000
DTEND;TZID=America/New_York:20131123T203000
END:VEVENT
END:VCALENDAR
