BEGIN:VCALENDAR
PRODID:-//eluceo/ical//2.0/EN
VERSION:2.0
CALSCALE:GREGORIAN
BEGIN:VEVENT
UID:af4eee3b586a6adfba194867f18cb396
DTSTAMP:20260424T115726Z
SUMMARY:Beth Tikvah Art Auction
DESCRIPTION:Jewish Federation of Central Massachusetts\nCalendar\nhttps://j
 ewishcentralmass.org/calendar/beth-tikvah-art-auction\n\nBeth Tikvah Art A
 uction\n\n7pm
DTSTART;TZID=America/New_York:20181117T190000
DTEND;TZID=America/New_York:20181117T220000
END:VEVENT
END:VCALENDAR
