BEGIN:VCALENDAR
PRODID:-//eluceo/ical//2.0/EN
VERSION:2.0
CALSCALE:GREGORIAN
BEGIN:VEVENT
UID:85d2198b3620d23d8545d41d1ccaeacd
DTSTAMP:20260422T094948Z
SUMMARY:Beth Tikvah and Congregation B'nai Shalom Joint Service
DESCRIPTION:Jewish Federation of Central Massachusetts\nCalendar\nhttps://j
 ewishcentralmass.org/calendar/beth-tikvah-and-congregation-bnai-shalom-joi
 nt-service\n\nBT & CBS Joint Service
DTSTART;TZID=America/New_York:20140117T190000
DTEND;TZID=America/New_York:20140117T193000
END:VEVENT
END:VCALENDAR
