BEGIN:VCALENDAR
PRODID:-//eluceo/ical//2.0/EN
VERSION:2.0
CALSCALE:GREGORIAN
BEGIN:VEVENT
UID:d91a7e6faf70f810c9539be6a665a228
DTSTAMP:20260422T132155Z
SUMMARY:Beth Tikvah & Congregation B'nai Shalom Mitzvah Day
DESCRIPTION:Jewish Federation of Central Massachusetts\nCalendar\nhttps://j
 ewishcentralmass.org/calendar/beth-tikvah--congregation-bnai-shalom-mitzva
 h-day\n\nBT & CBS Mitzvah Day
DTSTART;TZID=America/New_York:20140406T000000
DTEND;TZID=America/New_York:20140406T235900
END:VEVENT
END:VCALENDAR
