BEGIN:VCALENDAR
PRODID:-//eluceo/ical//2.0/EN
VERSION:2.0
CALSCALE:GREGORIAN
BEGIN:VEVENT
UID:b0d46c91828530317130fb5e97cf5fab
DTSTAMP:20260423T163511Z
SUMMARY:Beth Tikvah & B'nai Shalom 1st day of Hebrew School
DESCRIPTION:Jewish Federation of Central Massachusetts\nCalendar\nhttps://j
 ewishcentralmass.org/calendar/beth-tikvah--bnai-shalom-1st-day-of-hebrew-s
 chool\n\nBT & CBS 1st day of Hebrew School
DTSTART;TZID=America/New_York:20130929T000000
DTEND;TZID=America/New_York:20130929T235900
END:VEVENT
END:VCALENDAR
