BEGIN:VCALENDAR
PRODID:-//eluceo/ical//2.0/EN
VERSION:2.0
CALSCALE:GREGORIAN
BEGIN:VEVENT
UID:5d5badb743e604a6740cce746ee24c48
DTSTAMP:20260422T135607Z
SUMMARY:Beth Israel's 100th year celebration
DESCRIPTION:Jewish Federation of Central Massachusetts\nCalendar\nhttps://j
 ewishcentralmass.org/calendar/beth-israels-100th-year-celebration\n\nBeth 
 Israel's 100th year celebration
DTSTART;TZID=America/New_York:20240531T120000
DTEND;TZID=America/New_York:20240602T190000
END:VEVENT
END:VCALENDAR
