BEGIN:VCALENDAR
PRODID:-//eluceo/ical//2.0/EN
VERSION:2.0
CALSCALE:GREGORIAN
BEGIN:VEVENT
UID:9b7d9ab58d531cd5a5164036c8d015a6
DTSTAMP:20260423T045844Z
SUMMARY:POSTPONED: Beth Israel Yard Sale
DESCRIPTION:Jewish Federation of Central Massachusetts\nCalendar\nhttps://j
 ewishcentralmass.org/calendar/beth-israel-yard-sale\n\nPOSTPONED UNTIL A L
 ATER DATE\n\n1/26/25 Beth Israel Yard Sale from 10 am – 1 pm.
DTSTART;TZID=America/New_York:20250126T100000
DTEND;TZID=America/New_York:20250126T130000
END:VEVENT
END:VCALENDAR
