BEGIN:VCALENDAR
PRODID:-//eluceo/ical//2.0/EN
VERSION:2.0
CALSCALE:GREGORIAN
BEGIN:VEVENT
UID:3e7b94d1db997ef3cb8586b172176b6d
DTSTAMP:20260423T133925Z
SUMMARY:Beth Israel Cantor Ocanto's Installation
DESCRIPTION:Jewish Federation of Central Massachusetts\nCalendar\nhttps://j
 ewishcentralmass.org/calendar/beth-israel-cantor-ocantos-installation\n\nB
 I Cantor Ocanto's Installation
DTSTART;TZID=America/New_York:20130602T160000
DTEND;TZID=America/New_York:20130602T180000
END:VEVENT
END:VCALENDAR
