BEGIN:VCALENDAR
PRODID:-//eluceo/ical//2.0/EN
VERSION:2.0
CALSCALE:GREGORIAN
BEGIN:VEVENT
UID:12c5fb4b6f6f70f36072ff0b0a734b3e
DTSTAMP:20260421T151358Z
SUMMARY:Beth Israel Brotherhood Breakfast
DESCRIPTION:Jewish Federation of Central Massachusetts\nCalendar\nhttps://j
 ewishcentralmass.org/calendar/beth-israel-brotherhood-breakfast\n\nBI Bro 
 Brkfst
DTSTART;TZID=America/New_York:20131124T103000
DTEND;TZID=America/New_York:20131124T110000
END:VEVENT
END:VCALENDAR
