BEGIN:VCALENDAR
PRODID:-//eluceo/ical//2.0/EN
VERSION:2.0
CALSCALE:GREGORIAN
BEGIN:VEVENT
UID:bc5a6499122d619ccd5b04ff2cc6b0c6
DTSTAMP:20260423T053849Z
SUMMARY:Beth Israel Brotherhood BBQ
DESCRIPTION:Jewish Federation of Central Massachusetts\nCalendar\nhttps://j
 ewishcentralmass.org/calendar/beth-israel-brotherhood-bbq\n\nBI Bro BBQ
DTSTART;TZID=America/New_York:20130821T170000
DTEND;TZID=America/New_York:20130821T173000
END:VEVENT
END:VCALENDAR
