BEGIN:VCALENDAR
PRODID:-//eluceo/ical//2.0/EN
VERSION:2.0
CALSCALE:GREGORIAN
BEGIN:VEVENT
UID:f2da90a9090e1fc1409f29c1e564fb8a
DTSTAMP:20260424T120207Z
SUMMARY:Beth Israel Board Meeting
DESCRIPTION:Jewish Federation of Central Massachusetts\nCalendar\nhttps://j
 ewishcentralmass.org/calendar/beth-israel-board-meeting\n\nBI Bd
DTSTART;TZID=America/New_York:20140227T190000
DTEND;TZID=America/New_York:20140227T193000
END:VEVENT
END:VCALENDAR
