BEGIN:VCALENDAR
PRODID:-//eluceo/ical//2.0/EN
VERSION:2.0
CALSCALE:GREGORIAN
BEGIN:VEVENT
UID:d6c9a10033959ceecf0ec9c4fc973f18
DTSTAMP:20260423T201643Z
SUMMARY:Beth Israel Annual Meeting
DESCRIPTION:Jewish Federation of Central Massachusetts\nCalendar\nhttps://j
 ewishcentralmass.org/calendar/beth-israel-annual-meeting\n\nBI Annual Meet
 ing
DTSTART;TZID=America/New_York:20140612T193000
DTEND;TZID=America/New_York:20140612T210000
END:VEVENT
END:VCALENDAR
