BEGIN:VCALENDAR
PRODID:-//eluceo/ical//2.0/EN
VERSION:2.0
CALSCALE:GREGORIAN
BEGIN:VEVENT
UID:dbeff4f4c0d1e220df76f92db49b51de
DTSTAMP:20260423T142239Z
SUMMARY:Beth Israel 92Y Live
DESCRIPTION:Jewish Federation of Central Massachusetts\nCalendar\nhttps://j
 ewishcentralmass.org/calendar/beth-israel-92y-live3\n\nBarney Frank with J
 eff Greenfield
DTSTART;TZID=America/New_York:20150412T200000
DTEND;TZID=America/New_York:20150412T213000
END:VEVENT
END:VCALENDAR
