BEGIN:VCALENDAR
PRODID:-//eluceo/ical//2.0/EN
VERSION:2.0
CALSCALE:GREGORIAN
BEGIN:VEVENT
UID:05f96bedbc62b051070b4cf1af4d633e
DTSTAMP:20260423T005601Z
SUMMARY:Beth Israel 92Y Live
DESCRIPTION:Jewish Federation of Central Massachusetts\nCalendar\nhttps://j
 ewishcentralmass.org/calendar/beth-israel-92y-live2\n\nThe Thomas Friedman
  discussion with Dov Seidman
DTSTART;TZID=America/New_York:20150114T200000
DTEND;TZID=America/New_York:20150114T213000
END:VEVENT
END:VCALENDAR
