BEGIN:VCALENDAR
PRODID:-//eluceo/ical//2.0/EN
VERSION:2.0
CALSCALE:GREGORIAN
BEGIN:VEVENT
UID:f0133190594f6143cfa8c4da72c505b4
DTSTAMP:20260422T091806Z
SUMMARY:Beth Israel 92Y Live Returns to Worcester!
DESCRIPTION:Jewish Federation of Central Massachusetts\nCalendar\nhttps://j
 ewishcentralmass.org/calendar/beth-israel-92y-live-returns-to-worcester\n\
 n92Y Live Returns to Worcester! America and Israel: The Way Forward
DTSTART;TZID=America/New_York:20141204T201500
DTEND;TZID=America/New_York:20141204T211500
END:VEVENT
END:VCALENDAR
