BEGIN:VCALENDAR
PRODID:-//eluceo/ical//2.0/EN
VERSION:2.0
CALSCALE:GREGORIAN
BEGIN:VEVENT
UID:cf6cef0aa94860d7e26069a45f2b4bed
DTSTAMP:20260423T050741Z
SUMMARY:Berry Fest at Eisenberg Assisted Living
DESCRIPTION:Jewish Federation of Central Massachusetts\nCalendar\nhttps://j
 ewishcentralmass.org/calendar/berry-fest-at-eisenberg-assisted-living\n\nW
 ed.\, June 22\, 2022 - 5:00 pm - Berry Fest at Eisenberg Assisted Living
DTSTART;TZID=America/New_York:20220622T170000
DTEND;TZID=America/New_York:20220622T190000
END:VEVENT
END:VCALENDAR
