BEGIN:VCALENDAR
PRODID:-//eluceo/ical//2.0/EN
VERSION:2.0
CALSCALE:GREGORIAN
BEGIN:VEVENT
UID:46237fbf82f176134de67368f8971083
DTSTAMP:20260424T114604Z
SUMMARY:Auxiliary Donor Luncheon at The JHC
DESCRIPTION:Jewish Federation of Central Massachusetts\nCalendar\nhttps://j
 ewishcentralmass.org/calendar/auxiliary-donor-luncheon-at-the-jhc\n\nWedne
 sday\, September 14\, 2022 – Auxiliary Donor Luncheon at The JHC
DTSTART;TZID=America/New_York:20220914T120000
DTEND;TZID=America/New_York:20220914T140000
END:VEVENT
END:VCALENDAR
