BEGIN:VCALENDAR
PRODID:-//eluceo/ical//2.0/EN
VERSION:2.0
CALSCALE:GREGORIAN
BEGIN:VEVENT
UID:a9938298e8a4ce4a44397485518f1e36
DTSTAMP:20260422T045027Z
SUMMARY:TES Program: Author Howard Veisz
DESCRIPTION:Jewish Federation of Central Massachusetts\nCalendar\nhttps://j
 ewishcentralmass.org/calendar/author-howard-veisz\n\nSunday\, November 21 
 at 10:00 a.m.: Howard Veisz\, author of Henny and Her Boat: Righteousness 
 and Resistance in Nazi Occupied Denmark. The story of a 22 year old Danish
  woman and the boat she captained to bring Danish Jews to safety in Sweden
 .
DTSTART;TZID=America/New_York:20211121T100000
DTEND;TZID=America/New_York:20211121T120000
END:VEVENT
END:VCALENDAR
