BEGIN:VCALENDAR
PRODID:-//eluceo/ical//2.0/EN
VERSION:2.0
CALSCALE:GREGORIAN
BEGIN:VEVENT
UID:94c1714fe0eb890f5c65624f68d922ba
DTSTAMP:20260423T143140Z
SUMMARY:Antisemitism Summit at JFCM
DESCRIPTION:Jewish Federation of Central Massachusetts\nCalendar\nhttps://j
 ewishcentralmass.org/calendar/antisemitism-summit-at-jfcm\n\nApril 26 11am
  Antisemitism Summit at JFCM.
DTSTART;TZID=America/New_York:20220426T110000
DTEND;TZID=America/New_York:20220426T130000
END:VEVENT
END:VCALENDAR
