BEGIN:VCALENDAR
PRODID:-//eluceo/ical//2.0/EN
VERSION:2.0
CALSCALE:GREGORIAN
BEGIN:VEVENT
UID:26b717a2a6d498043f0cd24fde870f76
DTSTAMP:20260422T090505Z
SUMMARY:Antisemitism event at Assumption University
DESCRIPTION:Jewish Federation of Central Massachusetts\nCalendar\nhttps://j
 ewishcentralmass.org/calendar/antisemitism-event-at-assumption-university\
 n\n2/15 at 5:00pm\n\nAntisemitism event at Assuption University\n\n"Yes\,
  I am a Jew": Education and Antisemitism - Assumption University
DTSTART;TZID=America/New_York:20240215T170000
DTEND;TZID=America/New_York:20240215T190000
END:VEVENT
END:VCALENDAR
