BEGIN:VCALENDAR
PRODID:-//eluceo/ical//2.0/EN
VERSION:2.0
CALSCALE:GREGORIAN
BEGIN:VEVENT
UID:97775b716c9ddea272c9c7c2ddbae876
DTSTAMP:20260422T192144Z
SUMMARY:An Hour of Jewish Comedy
DESCRIPTION:Jewish Federation of Central Massachusetts\nCalendar\nhttps://j
 ewishcentralmass.org/calendar/an-hour-of-jewish-comedy\n\nAn Hour of Jewis
 h Comedy\n\n\nThursday\, September 10\, 2020 at 7pm\n\n\n\n\n\n\n\n\n\n\n\
 n \n\n\n\n\n\n\n\n\n\n\nDon't miss it!\n\nIt will be an hour of entertain
 ing and thought provoking comedy.\n\nFeaturing a selection of comedic skit
 s from Rich Orloff's play OY!\n\n\n\n\n\n\n\n\n\n\n \n\n\n\n\n\n\n\n\n\n
 \n...
DTSTART;TZID=America/New_York:20200910T190000
DTEND;TZID=America/New_York:20200910T210000
END:VEVENT
END:VCALENDAR
