BEGIN:VCALENDAR
PRODID:-//eluceo/ical//2.0/EN
VERSION:2.0
CALSCALE:GREGORIAN
BEGIN:VEVENT
UID:ef87455bc3c70592850a5f03eccac01c
DTSTAMP:20260424T025137Z
SUMMARY:An Evening with Al Gore
DESCRIPTION:Jewish Federation of Central Massachusetts\nCalendar\nhttps://j
 ewishcentralmass.org/calendar/an-evening-with-al-gore\n\n92nd Street Y Liv
 e
DTSTART;TZID=America/New_York:20130129T200000
DTEND;TZID=America/New_York:20130129T203000
END:VEVENT
END:VCALENDAR
