BEGIN:VCALENDAR
PRODID:-//eluceo/ical//2.0/EN
VERSION:2.0
CALSCALE:GREGORIAN
BEGIN:VEVENT
UID:7058c47317c4238891a80b069e368fe5
DTSTAMP:20260422T075040Z
SUMMARY:Ambassador's Orientation Brunch
DESCRIPTION:Jewish Federation of Central Massachusetts\nCalendar\nhttps://j
 ewishcentralmass.org/calendar/ambassadors-orientation-brunch\n\nAmbassador
 's Orientation Brunch
DTSTART;TZID=America/New_York:20160925T103000
DTEND;TZID=America/New_York:20160925T123000
END:VEVENT
END:VCALENDAR
