BEGIN:VCALENDAR
PRODID:-//eluceo/ical//2.0/EN
VERSION:2.0
CALSCALE:GREGORIAN
BEGIN:VEVENT
UID:23d93b2ad9448cf343208c9a16b5403c
DTSTAMP:20260422T022937Z
SUMMARY:Ambassador Breakfast
DESCRIPTION:Jewish Federation of Central Massachusetts\nCalendar\nhttps://j
 ewishcentralmass.org/calendar/ambassador-breakfast\n\nAmbassador Breakfast
 \n\n8:00 am\n\nJFCM Boardroom
DTSTART;TZID=America/New_York:20180119T080000
DTEND;TZID=America/New_York:20180119T100000
END:VEVENT
END:VCALENDAR
