BEGIN:VCALENDAR
PRODID:-//eluceo/ical//2.0/EN
VERSION:2.0
CALSCALE:GREGORIAN
BEGIN:VEVENT
UID:4c97fb959339f14fd50b26f0cc36766b
DTSTAMP:20260420T155002Z
SUMMARY:Alzheimer’s Walk 2026
DESCRIPTION:Jewish Federation of Central Massachusetts\nCalendar\nhttps://j
 ewishcentralmass.org/calendar/alzheimers-walk-2026\n\nAlzheimer’s Walk \
 n\nSunday\, October 18th
DTSTART;TZID=America/New_York:20261018T000000
DTEND;TZID=America/New_York:20261018T235959
END:VEVENT
END:VCALENDAR
