BEGIN:VCALENDAR
PRODID:-//eluceo/ical//2.0/EN
VERSION:2.0
CALSCALE:GREGORIAN
BEGIN:VEVENT
UID:20643fe48b77c56dc812e1d861f19d11
DTSTAMP:20260423T195240Z
SUMMARY:Alzheimer Walk with JHC
DESCRIPTION:Jewish Federation of Central Massachusetts\nCalendar\nhttps://j
 ewishcentralmass.org/calendar/alzheimer-walk-with-jhc\n\nAlzheimer Walk\, 
 Sunday October 1\, 2023 – We are a sponsor and have a team walking.\n\nJ
 oin our team! 2023 Walk to End Alzheimer's - Worcester County - Worcester
 \, MA: JHC on the Move | Walk to End Alzheimer's
DTSTART;TZID=America/New_York:20231001T100000
DTEND;TZID=America/New_York:20231001T120000
END:VEVENT
END:VCALENDAR
