BEGIN:VCALENDAR
PRODID:-//eluceo/ical//2.0/EN
VERSION:2.0
CALSCALE:GREGORIAN
BEGIN:VEVENT
UID:631ba2cbc5d9e2e0dd288f749c39ef1e
DTSTAMP:20260421T123008Z
SUMMARY:AIPAC Program The Iran Deal: Where We Are and Where We Are Going
DESCRIPTION:Jewish Federation of Central Massachusetts\nCalendar\nhttps://j
 ewishcentralmass.org/calendar/aipac-program-the-iran-deal-where-we-are-and
 -where-we-are-going\n\nAIPAC Program The Iran Deal: Where We Are and Where
  We Are Going\n\nClick here to RSVP
DTSTART;TZID=America/New_York:20150930T190000
DTEND;TZID=America/New_York:20150930T210000
END:VEVENT
END:VCALENDAR
