BEGIN:VCALENDAR
PRODID:-//eluceo/ical//2.0/EN
VERSION:2.0
CALSCALE:GREGORIAN
BEGIN:VEVENT
UID:ab3630323927d17eb130553c4736d461
DTSTAMP:20260422T065610Z
SUMMARY:AIPAC New England Leadership Dinner
DESCRIPTION:Jewish Federation of Central Massachusetts\nCalendar\nhttps://j
 ewishcentralmass.org/calendar/aipac-new-england-leadership-dinner1\n\nJoin
  community leaders\, members of Congress\, state officials and students fo
 r AIPAC's largest gathering of pro-Israel activists in New England!\n\nFor
  full details or RSVP contact AIPAC New ENgland at 617-399-2562 or nedinne
 r2015@aipac.org\n\n 
DTSTART;TZID=America/New_York:20150503T170000
DTEND;TZID=America/New_York:20150503T210000
END:VEVENT
END:VCALENDAR
