BEGIN:VCALENDAR
PRODID:-//eluceo/ical//2.0/EN
VERSION:2.0
CALSCALE:GREGORIAN
BEGIN:VEVENT
UID:270d3bf227e649d9d3a1400cb38e82f3
DTSTAMP:20260422T150055Z
SUMMARY:AIPAC Meeting
DESCRIPTION:Jewish Federation of Central Massachusetts\nCalendar\nhttps://j
 ewishcentralmass.org/calendar/aipac-meeting\n\nAIPAC Meeting
DTSTART;TZID=America/New_York:20160907T193000
DTEND;TZID=America/New_York:20160907T210000
END:VEVENT
END:VCALENDAR
