BEGIN:VCALENDAR
PRODID:-//eluceo/ical//2.0/EN
VERSION:2.0
CALSCALE:GREGORIAN
BEGIN:VEVENT
UID:8f949b2f38b165edc41ac9a0f90bdf88
DTSTAMP:20260421T174621Z
SUMMARY:AIPAC – 2014 Worcester Community Event
DESCRIPTION:Jewish Federation of Central Massachusetts\nCalendar\nhttps://j
 ewishcentralmass.org/calendar/aipac--2014-worcester-community-event\n\nAIP
 AC Worcester Community Event
DTSTART;TZID=America/New_York:20140319T190000
DTEND;TZID=America/New_York:20140319T210000
END:VEVENT
END:VCALENDAR
