BEGIN:VCALENDAR
PRODID:-//eluceo/ical//2.0/EN
VERSION:2.0
CALSCALE:GREGORIAN
BEGIN:VEVENT
UID:b9e02cf9cab65ac201229d2a9764aba3
DTSTAMP:20260423T101957Z
SUMMARY:ADL -Federation Community event for Teens/College Students
DESCRIPTION:Jewish Federation of Central Massachusetts\nCalendar\nhttps://j
 ewishcentralmass.org/calendar/adl-federation-community-event-for-teenscoll
 ege-students\n\nADL -Federation Community event for Teens/College Students
  to learn about Anti-Semitism.\n\n \n\n29 October\n\nTIME & LOCATION TBD
DTSTART;TZID=America/New_York:20231029T010000
DTEND;TZID=America/New_York:20231029T030000
END:VEVENT
END:VCALENDAR
