BEGIN:VCALENDAR
PRODID:-//eluceo/ical//2.0/EN
VERSION:2.0
CALSCALE:GREGORIAN
BEGIN:VEVENT
UID:ec61cc76198c453e9546abab2607c682
DTSTAMP:20260423T065202Z
SUMMARY:ADL 100th Anniversary Event
DESCRIPTION:Jewish Federation of Central Massachusetts\nCalendar\nhttps://j
 ewishcentralmass.org/calendar/adl-100th-anniversary-event\n\n92nd St Y Liv
 e
DTSTART;TZID=America/New_York:20130409T200000
DTEND;TZID=America/New_York:20130409T203000
END:VEVENT
END:VCALENDAR
