BEGIN:VCALENDAR
PRODID:-//eluceo/ical//2.0/EN
VERSION:2.0
CALSCALE:GREGORIAN
BEGIN:VEVENT
UID:b99fb1c20960e818e122a2c4b3c7a5b1
DTSTAMP:20260424T104627Z
SUMMARY:AA Wacky Recipe and Services
DESCRIPTION:Jewish Federation of Central Massachusetts\nCalendar\nhttps://j
 ewishcentralmass.org/calendar/aa-wacky-recipe-and-services\n\nAA Wacky Rec
 ipe and Services\n\n6:00 pm
DTSTART;TZID=America/New_York:20240223T180000
DTEND;TZID=America/New_York:20240223T200000
END:VEVENT
END:VCALENDAR
