BEGIN:VCALENDAR
PRODID:-//eluceo/ical//2.0/EN
VERSION:2.0
CALSCALE:GREGORIAN
BEGIN:VEVENT
UID:eb872939ae3b97428e92396595b50518
DTSTAMP:20260423T173152Z
SUMMARY:AA - Vets Service
DESCRIPTION:Jewish Federation of Central Massachusetts\nCalendar\nhttps://j
 ewishcentralmass.org/calendar/aa-vets-service\n\nAA - Vets Service at 6:00
  pm
DTSTART;TZID=America/New_York:20211112T180000
DTEND;TZID=America/New_York:20211112T200000
END:VEVENT
END:VCALENDAR
