BEGIN:VCALENDAR
PRODID:-//eluceo/ical//2.0/EN
VERSION:2.0
CALSCALE:GREGORIAN
BEGIN:VEVENT
UID:9bfea1df1e25ffeccedc53e98e43d8e7
DTSTAMP:20260421T060513Z
SUMMARY:AA Tot Shabbat
DESCRIPTION:Jewish Federation of Central Massachusetts\nCalendar\nhttps://j
 ewishcentralmass.org/calendar/aa-tot-shabbat\n\nAA Tot Shabbat\n\n11:00 am
DTSTART;TZID=America/New_York:20231021T110000
DTEND;TZID=America/New_York:20231021T130000
END:VEVENT
END:VCALENDAR
