BEGIN:VCALENDAR
PRODID:-//eluceo/ical//2.0/EN
VERSION:2.0
CALSCALE:GREGORIAN
BEGIN:VEVENT
UID:3ed5e9e4e2e4b9c2c57149b60cc68f6b
DTSTAMP:20260424T044408Z
SUMMARY:PJ Library/PJOW Pizza in the Hut with Congregation Agudat Achim
DESCRIPTION:Jewish Federation of Central Massachusetts\nCalendar\nhttps://j
 ewishcentralmass.org/calendar/aa-sukkot-program\n\nPJ Library/PJOW Pizza i
 n the Hut with Congregation Agudat Achim\n\n10:00 am
DTSTART;TZID=America/New_York:20231001T100000
DTEND;TZID=America/New_York:20231001T120000
END:VEVENT
END:VCALENDAR
