BEGIN:VCALENDAR
PRODID:-//eluceo/ical//2.0/EN
VERSION:2.0
CALSCALE:GREGORIAN
BEGIN:VEVENT
UID:2fd908e80632a7851a1037385ac2ddbb
DTSTAMP:20260423T012830Z
SUMMARY:AA Purim Carnival
DESCRIPTION:Jewish Federation of Central Massachusetts\nCalendar\nhttps://j
 ewishcentralmass.org/calendar/aa-purim-carnival\n\nAA Purim Carnival\n\n11
 :00 am
DTSTART;TZID=America/New_York:20240225T110000
DTEND;TZID=America/New_York:20240225T130000
END:VEVENT
END:VCALENDAR
