BEGIN:VCALENDAR
PRODID:-//eluceo/ical//2.0/EN
VERSION:2.0
CALSCALE:GREGORIAN
BEGIN:VEVENT
UID:9ede2b1efbf0bf3e416a94715f490bc9
DTSTAMP:20260424T205336Z
SUMMARY:AA Post Havdalah Game and Pizza Night
DESCRIPTION:Jewish Federation of Central Massachusetts\nCalendar\nhttps://j
 ewishcentralmass.org/calendar/aa-post-havdalah-game-and-pizza-night\n\nAA 
 Post Havdalah Game and Pizza Night\n\n5:30 pm
DTSTART;TZID=America/New_York:20240127T173000
DTEND;TZID=America/New_York:20240127T193000
END:VEVENT
END:VCALENDAR
