BEGIN:VCALENDAR
PRODID:-//eluceo/ical//2.0/EN
VERSION:2.0
CALSCALE:GREGORIAN
BEGIN:VEVENT
UID:de36e04ec589b01159aaaf197de89efa
DTSTAMP:20260421T200048Z
SUMMARY:AA Open Event
DESCRIPTION:Jewish Federation of Central Massachusetts\nCalendar\nhttps://j
 ewishcentralmass.org/calendar/aa-open-event\n\nAA Open Event\n\n11:00 am
DTSTART;TZID=America/New_York:20240115T110000
DTEND;TZID=America/New_York:20240115T130000
END:VEVENT
END:VCALENDAR
